BEGIN:VCALENDAR
VERSION:2.0
PRODID:-//Integrity Church - ECPv5.3.2.1//NONSGML v1.0//EN
CALSCALE:GREGORIAN
METHOD:PUBLISH
X-WR-CALNAME:Integrity Church
X-ORIGINAL-URL:https://test.integrityli.org
X-WR-CALDESC:Events for Integrity Church
BEGIN:VTIMEZONE
TZID:America/New_York
BEGIN:DAYLIGHT
TZOFFSETFROM:-0500
TZOFFSETTO:-0400
TZNAME:EDT
DTSTART:20160313T070000
END:DAYLIGHT
BEGIN:STANDARD
TZOFFSETFROM:-0400
TZOFFSETTO:-0500
TZNAME:EST
DTSTART:20161106T060000
END:STANDARD
END:VTIMEZONE
BEGIN:VEVENT
DTSTART;TZID=America/New_York:20160731T083000
DTEND;TZID=America/New_York:20160805T170000
DTSTAMP:20260423T132917
CREATED:20160722T220648Z
LAST-MODIFIED:20160730T195522Z
UID:8721-1469953800-1470416400@test.integrityli.org
SUMMARY:Youth Group Missions Trip
DESCRIPTION:
URL:https://test.integrityli.org/event/youth-group-missions-trip/
LOCATION:NY
CATEGORIES:ONE79 Youth Group,Teens
END:VEVENT
END:VCALENDAR