BEGIN:VCALENDAR
VERSION:2.0
PRODID:-//Integrity Church - ECPv5.3.2.1//NONSGML v1.0//EN
CALSCALE:GREGORIAN
METHOD:PUBLISH
X-WR-CALNAME:Integrity Church
X-ORIGINAL-URL:https://test.integrityli.org
X-WR-CALDESC:Events for Integrity Church
BEGIN:VTIMEZONE
TZID:America/New_York
BEGIN:DAYLIGHT
TZOFFSETFROM:-0500
TZOFFSETTO:-0400
TZNAME:EDT
DTSTART:20160313T070000
END:DAYLIGHT
BEGIN:STANDARD
TZOFFSETFROM:-0400
TZOFFSETTO:-0500
TZNAME:EST
DTSTART:20161106T060000
END:STANDARD
END:VTIMEZONE
BEGIN:VEVENT
DTSTART;TZID=America/New_York:20160519T190000
DTEND;TZID=America/New_York:20160519T200000
DTSTAMP:20260423T090159
CREATED:20160418T140701Z
LAST-MODIFIED:20160825T164056Z
UID:8213-1463684400-1463688000@test.integrityli.org
SUMMARY:Thursday Night Church
DESCRIPTION:Join us on Thursday nights at 7pm as we experience Sunday Service again!
URL:https://test.integrityli.org/event/thursday-night-church/
LOCATION:Integrity Church\, 1 Old Dock Rd\, Yaphank\, 11980\, United States
CATEGORIES:Coming Soon,Worship Service
ATTACH;FMTTYPE=image/jpeg:https://test.integrityli.org/wp-content/uploads/Experience-Church-On-Thursd.jpg
END:VEVENT
END:VCALENDAR