BEGIN:VCALENDAR
VERSION:2.0
PRODID:-//Integrity Church - ECPv5.3.2.1//NONSGML v1.0//EN
CALSCALE:GREGORIAN
METHOD:PUBLISH
X-WR-CALNAME:Integrity Church
X-ORIGINAL-URL:https://test.integrityli.org
X-WR-CALDESC:Events for Integrity Church
BEGIN:VTIMEZONE
TZID:America/New_York
BEGIN:DAYLIGHT
TZOFFSETFROM:-0500
TZOFFSETTO:-0400
TZNAME:EDT
DTSTART:20160313T070000
END:DAYLIGHT
BEGIN:STANDARD
TZOFFSETFROM:-0400
TZOFFSETTO:-0500
TZNAME:EST
DTSTART:20161106T060000
END:STANDARD
END:VTIMEZONE
BEGIN:VEVENT
DTSTART;TZID=America/New_York:20160122T190000
DTEND;TZID=America/New_York:20160122T213000
DTSTAMP:20260423T174500
CREATED:20150508T155239Z
LAST-MODIFIED:20160122T205118Z
UID:5954-1453489200-1453498200@test.integrityli.org
SUMMARY:The Resistance Youth Group CANCELLED
DESCRIPTION:We will be canceling our Youth Group this evening due to the imminent snow storm.  \nIf you would like to learn more about The Resistance Youth Group\, contact Pastor Vinny at theresistance@integrityli.org
URL:https://test.integrityli.org/event/the-resistance-youth-group-3/
LOCATION:Integrity Church\, 1 Old Dock Rd\, Yaphank\, 11980\, United States
ORGANIZER;CN="Pastor%20Vinny":MAILTO:theresistance@integrityli.org
END:VEVENT
END:VCALENDAR