BEGIN:VCALENDAR
VERSION:2.0
PRODID:-//Integrity Church - ECPv5.3.2.1//NONSGML v1.0//EN
CALSCALE:GREGORIAN
METHOD:PUBLISH
X-WR-CALNAME:Integrity Church
X-ORIGINAL-URL:https://test.integrityli.org
X-WR-CALDESC:Events for Integrity Church
BEGIN:VTIMEZONE
TZID:America/New_York
BEGIN:DAYLIGHT
TZOFFSETFROM:-0500
TZOFFSETTO:-0400
TZNAME:EDT
DTSTART:20160313T070000
END:DAYLIGHT
BEGIN:STANDARD
TZOFFSETFROM:-0400
TZOFFSETTO:-0500
TZNAME:EST
DTSTART:20161106T060000
END:STANDARD
END:VTIMEZONE
BEGIN:VEVENT
DTSTART;TZID=America/New_York:20160129T190000
DTEND;TZID=America/New_York:20160129T213000
DTSTAMP:20260423T132658
CREATED:20150508T155239Z
LAST-MODIFIED:20160126T170319Z
UID:7552-1454094000-1454103000@test.integrityli.org
SUMMARY:The Resistance Youth Group-CANCELLED due to Marriage Seminar
DESCRIPTION:The Resistance is our Youth Group that meets Friday nights from 7:00 pm – 9:30 pm (10:00 pm in the summer)\nTeens ages 12* through 18 are welcome to join!\n*Teens age 11 may attend the year that they are turning 12 years old. \nIf you would like to learn more about The Resistance Youth Group\, contact Pastor Vinny at theresistance@integrityli.org
URL:https://test.integrityli.org/event/the-resistance-youth-group-3-2016-01-29/
LOCATION:Integrity Church\, 1 Old Dock Rd\, Yaphank\, 11980\, United States
ORGANIZER;CN="Pastor%20Vinny":MAILTO:theresistance@integrityli.org
END:VEVENT
END:VCALENDAR