BEGIN:VCALENDAR
VERSION:2.0
PRODID:-//Integrity Church - ECPv5.3.2.1//NONSGML v1.0//EN
CALSCALE:GREGORIAN
METHOD:PUBLISH
X-WR-CALNAME:Integrity Church
X-ORIGINAL-URL:https://test.integrityli.org
X-WR-CALDESC:Events for Integrity Church
BEGIN:VTIMEZONE
TZID:America/New_York
BEGIN:DAYLIGHT
TZOFFSETFROM:-0500
TZOFFSETTO:-0400
TZNAME:EDT
DTSTART:20140309T070000
END:DAYLIGHT
BEGIN:STANDARD
TZOFFSETFROM:-0400
TZOFFSETTO:-0500
TZNAME:EST
DTSTART:20141102T060000
END:STANDARD
END:VTIMEZONE
BEGIN:VEVENT
DTSTART;TZID=America/New_York:20140809T090000
DTEND;TZID=America/New_York:20140809T170000
DTSTAMP:20260424T142548
CREATED:20140725T173654Z
LAST-MODIFIED:20140726T174540Z
UID:3998-1407574800-1407603600@test.integrityli.org
SUMMARY:Tag Sale
DESCRIPTION:Come on down to ICF on Friday\, Aug 8th from 9am to 6:45pm and Saturday\, Aug 9th from 9am to 5pm and support our local missions projects. There will be lots of great items for sale! \nContact Ron Girimonti for more information at 631-921-1399 or office@integrityli.org
URL:https://test.integrityli.org/event/tag-sale-2014-08-09/
LOCATION:Integrity Church\, 1 Old Dock Rd\, Yaphank\, 11980\, United States
CATEGORIES:Coming Soon,Outreach,Special Events
ATTACH;FMTTYPE=image/jpeg:https://test.integrityli.org/wp-content/uploads/ICFTagSale1.jpg
END:VEVENT
END:VCALENDAR