BEGIN:VCALENDAR
VERSION:2.0
PRODID:-//Integrity Church - ECPv5.3.2.1//NONSGML v1.0//EN
CALSCALE:GREGORIAN
METHOD:PUBLISH
X-WR-CALNAME:Integrity Church
X-ORIGINAL-URL:https://test.integrityli.org
X-WR-CALDESC:Events for Integrity Church
BEGIN:VTIMEZONE
TZID:America/New_York
BEGIN:DAYLIGHT
TZOFFSETFROM:-0500
TZOFFSETTO:-0400
TZNAME:EDT
DTSTART:20160313T070000
END:DAYLIGHT
BEGIN:STANDARD
TZOFFSETFROM:-0400
TZOFFSETTO:-0500
TZNAME:EST
DTSTART:20161106T060000
END:STANDARD
END:VTIMEZONE
BEGIN:VEVENT
DTSTART;TZID=America/New_York:20161016T183000
DTEND;TZID=America/New_York:20161016T203000
DTSTAMP:20260423T182454
CREATED:20161006T151340Z
LAST-MODIFIED:20170206T182904Z
UID:9263-1476642600-1476649800@test.integrityli.org
SUMMARY:Summit Young Adult Group
DESCRIPTION:Learn more…
URL:https://test.integrityli.org/event/summit-young-adults/
LOCATION:Integrity Church\, 1 Old Dock Rd\, Yaphank\, 11980\, United States
CATEGORIES:Young Adults
ATTACH;FMTTYPE=image/png:https://test.integrityli.org/wp-content/uploads/logo_summit_color.png
END:VEVENT
END:VCALENDAR