BEGIN:VCALENDAR
VERSION:2.0
PRODID:-//Integrity Church - ECPv5.3.2.1//NONSGML v1.0//EN
CALSCALE:GREGORIAN
METHOD:PUBLISH
X-WR-CALNAME:Integrity Church
X-ORIGINAL-URL:https://test.integrityli.org
X-WR-CALDESC:Events for Integrity Church
BEGIN:VTIMEZONE
TZID:America/New_York
BEGIN:DAYLIGHT
TZOFFSETFROM:-0500
TZOFFSETTO:-0400
TZNAME:EDT
DTSTART:20160313T070000
END:DAYLIGHT
BEGIN:STANDARD
TZOFFSETFROM:-0400
TZOFFSETTO:-0500
TZNAME:EST
DTSTART:20161106T060000
END:STANDARD
END:VTIMEZONE
BEGIN:VEVENT
DTSTART;TZID=America/New_York:20160221T190000
DTEND;TZID=America/New_York:20160221T203000
DTSTAMP:20260423T190751
CREATED:20150508T155944Z
LAST-MODIFIED:20160106T195510Z
UID:6005-1456081200-1456086600@test.integrityli.org
SUMMARY:Resonate Young Adult Group
DESCRIPTION:
URL:https://test.integrityli.org/event/resonate-young-adult-group-2/
LOCATION:Integrity Church\, 1 Old Dock Rd\, Yaphank\, 11980\, United States
ORGANIZER;CN="Pastor%20Vinny":MAILTO:theresistance@integrityli.org
END:VEVENT
END:VCALENDAR