BEGIN:VCALENDAR
VERSION:2.0
PRODID:-//Integrity Church - ECPv5.3.2.1//NONSGML v1.0//EN
CALSCALE:GREGORIAN
METHOD:PUBLISH
X-WR-CALNAME:Integrity Church
X-ORIGINAL-URL:https://test.integrityli.org
X-WR-CALDESC:Events for Integrity Church
BEGIN:VTIMEZONE
TZID:America/New_York
BEGIN:DAYLIGHT
TZOFFSETFROM:-0500
TZOFFSETTO:-0400
TZNAME:EDT
DTSTART:20160313T070000
END:DAYLIGHT
BEGIN:STANDARD
TZOFFSETFROM:-0400
TZOFFSETTO:-0500
TZNAME:EST
DTSTART:20161106T060000
END:STANDARD
END:VTIMEZONE
BEGIN:VEVENT
DTSTART;TZID=America/New_York:20160116T080000
DTEND;TZID=America/New_York:20160116T090000
DTSTAMP:20260423T203337
CREATED:20151026T131848Z
LAST-MODIFIED:20151230T173205Z
UID:6987-1452931200-1452934800@test.integrityli.org
SUMMARY:Prayer for Long Island Pastors
DESCRIPTION:Join us as churches across Long Island come together to pray for our pastors. \nContact us at office@integrityli.org for more information.
URL:https://test.integrityli.org/event/prayer-for-long-island-pastors/
LOCATION:Integrity Church\, 1 Old Dock Rd\, Yaphank\, 11980\, United States
CATEGORIES:Prayer
ORGANIZER;CN="Janet%20Balsamo":MAILTO:prayer@integrityli.org
END:VEVENT
END:VCALENDAR