BEGIN:VCALENDAR
VERSION:2.0
PRODID:-//Integrity Church - ECPv5.3.2.1//NONSGML v1.0//EN
CALSCALE:GREGORIAN
METHOD:PUBLISH
X-WR-CALNAME:Integrity Church
X-ORIGINAL-URL:https://test.integrityli.org
X-WR-CALDESC:Events for Integrity Church
BEGIN:VTIMEZONE
TZID:America/New_York
BEGIN:DAYLIGHT
TZOFFSETFROM:-0500
TZOFFSETTO:-0400
TZNAME:EDT
DTSTART:20170312T070000
END:DAYLIGHT
BEGIN:STANDARD
TZOFFSETFROM:-0400
TZOFFSETTO:-0500
TZNAME:EST
DTSTART:20171105T060000
END:STANDARD
END:VTIMEZONE
BEGIN:VEVENT
DTSTART;TZID=America/New_York:20170809T180000
DTEND;TZID=America/New_York:20170809T200000
DTSTAMP:20260422T102221
CREATED:20170718T223432Z
LAST-MODIFIED:20170807T182220Z
UID:11230-1502301600-1502308800@test.integrityli.org
SUMMARY:Pillars Men's Meeting
DESCRIPTION:Join the men starting at 6pm and prepare to be challenged and encouraged as we gather to sharpen one another through teaching\, discussion and worship. \nSign up today! ($15 covers the cost of dinner) \n[button url=”https://www.elexiogiving.com/f/f2.asp?formid=c773d77b-b8bb-4543-96f8-600dde4765a2″ color=”default” size=”small”]Register Now[/button]
URL:https://test.integrityli.org/event/pillars-mens-meeting-3/
LOCATION:Integrity Church\, 1 Old Dock Rd\, Yaphank\, 11980\, United States
CATEGORIES:Coming Soon,Pillars Men's Ministry,Spiritual Growth
END:VEVENT
END:VCALENDAR