BEGIN:VCALENDAR
VERSION:2.0
PRODID:-//Integrity Church - ECPv5.3.2.1//NONSGML v1.0//EN
CALSCALE:GREGORIAN
METHOD:PUBLISH
X-WR-CALNAME:Integrity Church
X-ORIGINAL-URL:https://test.integrityli.org
X-WR-CALDESC:Events for Integrity Church
BEGIN:VTIMEZONE
TZID:America/New_York
BEGIN:DAYLIGHT
TZOFFSETFROM:-0500
TZOFFSETTO:-0400
TZNAME:EDT
DTSTART:20160313T070000
END:DAYLIGHT
BEGIN:STANDARD
TZOFFSETFROM:-0400
TZOFFSETTO:-0500
TZNAME:EST
DTSTART:20161106T060000
END:STANDARD
END:VTIMEZONE
BEGIN:VEVENT
DTSTART;TZID=America/New_York:20160824T190000
DTEND;TZID=America/New_York:20160824T200000
DTSTAMP:20260423T145205
CREATED:20160813T172535Z
LAST-MODIFIED:20160813T201358Z
UID:8775-1472065200-1472068800@test.integrityli.org
SUMMARY:Newcomers Meeting
DESCRIPTION:If you have been here at Integrity for less than 1 year\, we’d love to get to know you better and share with you what our church is all about! \nJoin us at one of our two meetings:\nWednesday\, August 24th at 7:00pm\nSunday\, August 28th\, after service
URL:https://test.integrityli.org/event/new-comers-meeting/
LOCATION:Integrity Church\, 1 Old Dock Rd\, Yaphank\, 11980\, United States
CATEGORIES:Coming Soon
ATTACH;FMTTYPE=image/jpeg:https://test.integrityli.org/wp-content/uploads/NewcomersMeeting.jpg
ORGANIZER;CN="Pastor%20Tony":MAILTO:tony@integrityli.org
END:VEVENT
END:VCALENDAR