BEGIN:VCALENDAR
VERSION:2.0
PRODID:-//Integrity Church - ECPv5.3.2.1//NONSGML v1.0//EN
CALSCALE:GREGORIAN
METHOD:PUBLISH
X-WR-CALNAME:Integrity Church
X-ORIGINAL-URL:https://test.integrityli.org
X-WR-CALDESC:Events for Integrity Church
BEGIN:VTIMEZONE
TZID:America/New_York
BEGIN:DAYLIGHT
TZOFFSETFROM:-0500
TZOFFSETTO:-0400
TZNAME:EDT
DTSTART:20170312T070000
END:DAYLIGHT
BEGIN:STANDARD
TZOFFSETFROM:-0400
TZOFFSETTO:-0500
TZNAME:EST
DTSTART:20171105T060000
END:STANDARD
END:VTIMEZONE
BEGIN:VEVENT
DTSTART;TZID=America/New_York:20170114T090000
DTEND;TZID=America/New_York:20170114T100000
DTSTAMP:20260422T183623
CREATED:20160318T163137Z
LAST-MODIFIED:20170101T191938Z
UID:7386-1484384400-1484388000@test.integrityli.org
SUMMARY:Multi Church Prayer Meeting
DESCRIPTION:
URL:https://test.integrityli.org/event/multi-church-prayer-meeting/
LOCATION:Integrity Church\, 1 Old Dock Rd\, Yaphank\, 11980\, United States
CATEGORIES:Prayer
ATTACH;FMTTYPE=image/jpeg:https://test.integrityli.org/wp-content/uploads/Corporate-Prayer-For-Pastor.jpg
ORGANIZER;CN="Janet%20Balsamo":MAILTO:prayer@integrityli.org
END:VEVENT
END:VCALENDAR