BEGIN:VCALENDAR
VERSION:2.0
PRODID:-//Integrity Church - ECPv5.3.2.1//NONSGML v1.0//EN
CALSCALE:GREGORIAN
METHOD:PUBLISH
X-WR-CALNAME:Integrity Church
X-ORIGINAL-URL:https://test.integrityli.org
X-WR-CALDESC:Events for Integrity Church
BEGIN:VTIMEZONE
TZID:America/New_York
BEGIN:DAYLIGHT
TZOFFSETFROM:-0500
TZOFFSETTO:-0400
TZNAME:EDT
DTSTART:20140309T070000
END:DAYLIGHT
BEGIN:STANDARD
TZOFFSETFROM:-0400
TZOFFSETTO:-0500
TZNAME:EST
DTSTART:20141102T060000
END:STANDARD
END:VTIMEZONE
BEGIN:VEVENT
DTSTART;TZID=America/New_York:20140603T100000
DTEND;TZID=America/New_York:20140603T233000
DTSTAMP:20260424T230022
CREATED:20140402T162243Z
LAST-MODIFIED:20140722T153452Z
UID:3195-1401789600-1401838200@test.integrityli.org
SUMMARY:Mosaic Ladies' Study
DESCRIPTION:Join the Ladies of ICF as they host interactive Bible studies each week. \nPlease email us at mosaic@integrityli.org or call us at 631-840-7823 for more info.
URL:https://test.integrityli.org/event/mosaic-ladies-study-2014-04-22-2014-06-03/
LOCATION:Integrity Church\, 1 Old Dock Rd\, Yaphank\, 11980\, United States
CATEGORIES:Bible Study,Mosaic Women's Ministry
END:VEVENT
END:VCALENDAR