BEGIN:VCALENDAR
VERSION:2.0
PRODID:-//Integrity Church - ECPv5.3.2.1//NONSGML v1.0//EN
CALSCALE:GREGORIAN
METHOD:PUBLISH
X-WR-CALNAME:Integrity Church
X-ORIGINAL-URL:https://test.integrityli.org
X-WR-CALDESC:Events for Integrity Church
BEGIN:VTIMEZONE
TZID:America/New_York
BEGIN:DAYLIGHT
TZOFFSETFROM:-0500
TZOFFSETTO:-0400
TZNAME:EDT
DTSTART:20140309T070000
END:DAYLIGHT
BEGIN:STANDARD
TZOFFSETFROM:-0400
TZOFFSETTO:-0500
TZNAME:EST
DTSTART:20141102T060000
END:STANDARD
END:VTIMEZONE
BEGIN:VEVENT
DTSTART;TZID=America/New_York:20140916T100000
DTEND;TZID=America/New_York:20140916T120000
DTSTAMP:20260424T170156
CREATED:20140905T151351Z
LAST-MODIFIED:20140920T165024Z
UID:4091-1410861600-1410868800@test.integrityli.org
SUMMARY:Mosaic Ladies Morning Study
DESCRIPTION:Join the ladies as they study through this ground-breaking book as Dr. Cloud takes the reader step-by-step through the four basic tasks of becoming mature image bearers of God: Bonding to others – Separating from others – Sorting out good and bad in ourselves and others – Becoming an adult — Dr. Cloud not only explains and describes each task\, he also identifies the problems that result when we fail to accomplish that task\, and he shows us what changes to make in our lives in order to bring about healing. \nOrder your book online or order and pay for your book at the church.
URL:https://test.integrityli.org/event/mosaic-ladies-morning-study/
LOCATION:Integrity Church\, 1 Old Dock Rd\, Yaphank\, 11980\, United States
CATEGORIES:Mosaic Women's Ministry,Spiritual Growth
ATTACH;FMTTYPE=image/jpeg:https://test.integrityli.org/wp-content/uploads/ChangesThatHeal_Study2.jpg
ORGANIZER;CN="Laura%20Balsamo":MAILTO:mosaic@integrityli.org
END:VEVENT
END:VCALENDAR