BEGIN:VCALENDAR
VERSION:2.0
PRODID:-//Integrity Church - ECPv5.3.2.1//NONSGML v1.0//EN
CALSCALE:GREGORIAN
METHOD:PUBLISH
X-WR-CALNAME:Integrity Church
X-ORIGINAL-URL:https://test.integrityli.org
X-WR-CALDESC:Events for Integrity Church
BEGIN:VTIMEZONE
TZID:America/New_York
BEGIN:DAYLIGHT
TZOFFSETFROM:-0500
TZOFFSETTO:-0400
TZNAME:EDT
DTSTART:20150308T070000
END:DAYLIGHT
BEGIN:STANDARD
TZOFFSETFROM:-0400
TZOFFSETTO:-0500
TZNAME:EST
DTSTART:20151101T060000
END:STANDARD
END:VTIMEZONE
BEGIN:VEVENT
DTSTART;TZID=America/New_York:20150819T180000
DTEND;TZID=America/New_York:20150819T203000
DTSTAMP:20260424T004951
CREATED:20140918T190241Z
LAST-MODIFIED:20150819T001605Z
UID:4970-1440007200-1440016200@test.integrityli.org
SUMMARY:Mosaic Ladies Meeting
DESCRIPTION:Join the Ladies as we share our life journeys together on Wednesday\, August 19th at the church. (we have moved the location from the Martone home due to the threat of bad weather. \nAppetizers and Desserts will be served. $10 covers the cost and can be paid online or at the door.
URL:https://test.integrityli.org/event/mosaic-ladies-meeting-2015-06-02-2015-12-01/
LOCATION:Integrity Church\, 1 Old Dock Rd\, Yaphank\, 11980\, United States
CATEGORIES:Coming Soon,Mosaic Women's Ministry
ATTACH;FMTTYPE=image/jpeg:https://test.integrityli.org/wp-content/uploads/Mosaic_web_FP1.jpg
END:VEVENT
END:VCALENDAR