BEGIN:VCALENDAR
VERSION:2.0
PRODID:-//Integrity Church - ECPv5.3.2.1//NONSGML v1.0//EN
CALSCALE:GREGORIAN
METHOD:PUBLISH
X-WR-CALNAME:Integrity Church
X-ORIGINAL-URL:https://test.integrityli.org
X-WR-CALDESC:Events for Integrity Church
BEGIN:VTIMEZONE
TZID:America/New_York
BEGIN:DAYLIGHT
TZOFFSETFROM:-0500
TZOFFSETTO:-0400
TZNAME:EDT
DTSTART:20150308T070000
END:DAYLIGHT
BEGIN:STANDARD
TZOFFSETFROM:-0400
TZOFFSETTO:-0500
TZNAME:EST
DTSTART:20151101T060000
END:STANDARD
END:VTIMEZONE
BEGIN:VEVENT
DTSTART;TZID=America/New_York:20151216T180000
DTEND;TZID=America/New_York:20151216T203000
DTSTAMP:20260424T004221
CREATED:20140918T190241Z
LAST-MODIFIED:20151119T154903Z
UID:6341-1450288800-1450297800@test.integrityli.org
SUMMARY:Mosaic International Night: Christmas Around The World
DESCRIPTION:Join the Ladies for a special night of Christmas Celebration with foods from all over the World! ($10 covers the cost for food)\nBring a Family Favorite Dish to serve about 15 and the $10 cost will be waived!
URL:https://test.integrityli.org/event/mosaic-ladies-meeting-2015-06-02-2015-12-01-2015-12-16/
LOCATION:Integrity Church\, 1 Old Dock Rd\, Yaphank\, 11980\, United States
CATEGORIES:Coming Soon,Mosaic Women's Ministry,Special Events
END:VEVENT
END:VCALENDAR