BEGIN:VCALENDAR
VERSION:2.0
PRODID:-//Integrity Church - ECPv5.3.2.1//NONSGML v1.0//EN
CALSCALE:GREGORIAN
METHOD:PUBLISH
X-WR-CALNAME:Integrity Church
X-ORIGINAL-URL:https://test.integrityli.org
X-WR-CALDESC:Events for Integrity Church
BEGIN:VTIMEZONE
TZID:America/New_York
BEGIN:DAYLIGHT
TZOFFSETFROM:-0500
TZOFFSETTO:-0400
TZNAME:EDT
DTSTART:20160313T070000
END:DAYLIGHT
BEGIN:STANDARD
TZOFFSETFROM:-0400
TZOFFSETTO:-0500
TZNAME:EST
DTSTART:20161106T060000
END:STANDARD
END:VTIMEZONE
BEGIN:VEVENT
DTSTART;TZID=America/New_York:20161116T190000
DTEND;TZID=America/New_York:20161116T203000
DTSTAMP:20260423T171857
CREATED:20150925T203202Z
LAST-MODIFIED:20161001T000143Z
UID:6808-1479322800-1479328200@test.integrityli.org
SUMMARY:Membership Class
DESCRIPTION:
URL:https://test.integrityli.org/event/membership-class/
LOCATION:Integrity Church\, 1 Old Dock Rd\, Yaphank\, 11980\, United States
CATEGORIES:Membership
ORGANIZER;CN="Pastor%20Tony":MAILTO:tony@integrityli.org
END:VEVENT
END:VCALENDAR