BEGIN:VCALENDAR
VERSION:2.0
PRODID:-//Integrity Church - ECPv5.3.2.1//NONSGML v1.0//EN
CALSCALE:GREGORIAN
METHOD:PUBLISH
X-WR-CALNAME:Integrity Church
X-ORIGINAL-URL:https://test.integrityli.org
X-WR-CALDESC:Events for Integrity Church
BEGIN:VTIMEZONE
TZID:America/New_York
BEGIN:DAYLIGHT
TZOFFSETFROM:-0500
TZOFFSETTO:-0400
TZNAME:EDT
DTSTART:20160313T070000
END:DAYLIGHT
BEGIN:STANDARD
TZOFFSETFROM:-0400
TZOFFSETTO:-0500
TZNAME:EST
DTSTART:20161106T060000
END:STANDARD
END:VTIMEZONE
BEGIN:VEVENT
DTSTART;TZID=America/New_York:20160129T183000
DTEND;TZID=America/New_York:20160129T213000
DTSTAMP:20260423T145349
CREATED:20151121T145427Z
LAST-MODIFIED:20160129T225903Z
UID:7131-1454092200-1454103000@test.integrityli.org
SUMMARY:Marriage Seminar
DESCRIPTION:Join us for our annual Marriage Seminar! \nFriday\, January 29th from 6:30PM – 9:30PM and\nSaturday\, January 30th from 9:00AM – 1:00PM
URL:https://test.integrityli.org/event/marriage-seminar/
LOCATION:Integrity Church\, 1 Old Dock Rd\, Yaphank\, 11980\, United States
CATEGORIES:Coming Soon,Marriage
ATTACH;FMTTYPE=image/jpeg:https://test.integrityli.org/wp-content/uploads/2016-Oneness_3.jpg
ORGANIZER;CN="Pastor%20Tom":MAILTO:tom@integrityli.org
END:VEVENT
END:VCALENDAR