BEGIN:VCALENDAR
VERSION:2.0
PRODID:-//Integrity Church - ECPv5.3.2.1//NONSGML v1.0//EN
CALSCALE:GREGORIAN
METHOD:PUBLISH
X-WR-CALNAME:Integrity Church
X-ORIGINAL-URL:https://test.integrityli.org
X-WR-CALDESC:Events for Integrity Church
BEGIN:VTIMEZONE
TZID:America/New_York
BEGIN:DAYLIGHT
TZOFFSETFROM:-0500
TZOFFSETTO:-0400
TZNAME:EDT
DTSTART:20160313T070000
END:DAYLIGHT
BEGIN:STANDARD
TZOFFSETFROM:-0400
TZOFFSETTO:-0500
TZNAME:EST
DTSTART:20161106T060000
END:STANDARD
END:VTIMEZONE
BEGIN:VEVENT
DTSTART;TZID=America/New_York:20160430T180000
DTEND;TZID=America/New_York:20160430T200000
DTSTAMP:20260423T162515
CREATED:20150920T202853Z
LAST-MODIFIED:20160306T173947Z
UID:6752-1462039200-1462046400@test.integrityli.org
SUMMARY:Marriage Matters
DESCRIPTION:Get more info here
URL:https://test.integrityli.org/event/marriage-matters/
LOCATION:Integrity Church\, 1 Old Dock Rd\, Yaphank\, 11980\, United States
CATEGORIES:Coming Soon,Marriage
ATTACH;FMTTYPE=image/jpeg:https://test.integrityli.org/wp-content/uploads/Marriage-Matters_web.jpg
ORGANIZER;CN="Janet%20Balsamo":MAILTO:prayer@integrityli.org
END:VEVENT
END:VCALENDAR