BEGIN:VCALENDAR
VERSION:2.0
PRODID:-//Integrity Church - ECPv5.3.2.1//NONSGML v1.0//EN
CALSCALE:GREGORIAN
METHOD:PUBLISH
X-WR-CALNAME:Integrity Church
X-ORIGINAL-URL:https://test.integrityli.org
X-WR-CALDESC:Events for Integrity Church
BEGIN:VTIMEZONE
TZID:America/New_York
BEGIN:DAYLIGHT
TZOFFSETFROM:-0500
TZOFFSETTO:-0400
TZNAME:EDT
DTSTART:20170312T070000
END:DAYLIGHT
BEGIN:STANDARD
TZOFFSETFROM:-0400
TZOFFSETTO:-0500
TZNAME:EST
DTSTART:20171105T060000
END:STANDARD
END:VTIMEZONE
BEGIN:VEVENT
DTSTART;TZID=America/New_York:20170601T100000
DTEND;TZID=America/New_York:20170601T110000
DTSTAMP:20260422T210804
CREATED:20170531T194546Z
LAST-MODIFIED:20180829T233145Z
UID:11052-1496311200-1496314800@test.integrityli.org
SUMMARY:Ladies' Prayer
DESCRIPTION:Join the Ladies in prayer every 1st and 3rd Thursday of every month at the church.
URL:https://test.integrityli.org/event/ladies-prayer/
LOCATION:Integrity Church\, 1 Old Dock Rd\, Yaphank\, 11980\, United States
CATEGORIES:Prayer
ATTACH;FMTTYPE=image/jpeg:https://test.integrityli.org/wp-content/uploads/LadiesPrayer_web-10am.jpg
END:VEVENT
END:VCALENDAR