BEGIN:VCALENDAR
VERSION:2.0
PRODID:-//Integrity Church - ECPv5.3.2.1//NONSGML v1.0//EN
CALSCALE:GREGORIAN
METHOD:PUBLISH
X-WR-CALNAME:Integrity Church
X-ORIGINAL-URL:https://test.integrityli.org
X-WR-CALDESC:Events for Integrity Church
BEGIN:VTIMEZONE
TZID:America/New_York
BEGIN:DAYLIGHT
TZOFFSETFROM:-0500
TZOFFSETTO:-0400
TZNAME:EDT
DTSTART:20160313T070000
END:DAYLIGHT
BEGIN:STANDARD
TZOFFSETFROM:-0400
TZOFFSETTO:-0500
TZNAME:EST
DTSTART:20161106T060000
END:STANDARD
END:VTIMEZONE
BEGIN:VEVENT
DTSTART;TZID=America/New_York:20161228T180000
DTEND;TZID=America/New_York:20161228T200000
DTSTAMP:20260423T003230
CREATED:20161102T191448Z
LAST-MODIFIED:20161201T182030Z
UID:9560-1482948000-1482955200@test.integrityli.org
SUMMARY:Kidzone-Elevate Training
DESCRIPTION:
URL:https://test.integrityli.org/event/kidzone-elevate-training-2/
LOCATION:Integrity Church\, 1 Old Dock Rd\, Yaphank\, 11980\, United States
ORGANIZER;CN="Carrie%20Coniglio":MAILTO:cohesion@integrityli.org
END:VEVENT
END:VCALENDAR