BEGIN:VCALENDAR
VERSION:2.0
PRODID:-//Integrity Church - ECPv5.3.2.1//NONSGML v1.0//EN
CALSCALE:GREGORIAN
METHOD:PUBLISH
X-WR-CALNAME:Integrity Church
X-ORIGINAL-URL:https://test.integrityli.org
X-WR-CALDESC:Events for Integrity Church
BEGIN:VTIMEZONE
TZID:America/New_York
BEGIN:DAYLIGHT
TZOFFSETFROM:-0500
TZOFFSETTO:-0400
TZNAME:EDT
DTSTART:20160313T070000
END:DAYLIGHT
BEGIN:STANDARD
TZOFFSETFROM:-0400
TZOFFSETTO:-0500
TZNAME:EST
DTSTART:20161106T060000
END:STANDARD
END:VTIMEZONE
BEGIN:VEVENT
DTSTART;TZID=America/New_York:20161105T160000
DTEND;TZID=America/New_York:20161105T210000
DTSTAMP:20260423T212504
CREATED:20160903T135414Z
LAST-MODIFIED:20160903T135525Z
UID:8885-1478361600-1478379600@test.integrityli.org
SUMMARY:Integrity Church 10 Year Anniversary
DESCRIPTION:Join us as we celebrate 10 years!\n$35 per person or\n$70 per family
URL:https://test.integrityli.org/event/integrity-church-10-year-anniversary/
LOCATION:Integrity Church\, 1 Old Dock Rd\, Yaphank\, 11980\, United States
CATEGORIES:Coming Soon,Special Events
ORGANIZER;CN="Pastor%20Vinny":MAILTO:theresistance@integrityli.org
END:VEVENT
END:VCALENDAR