BEGIN:VCALENDAR
VERSION:2.0
PRODID:-//Integrity Church - ECPv5.3.2.1//NONSGML v1.0//EN
CALSCALE:GREGORIAN
METHOD:PUBLISH
X-WR-CALNAME:Integrity Church
X-ORIGINAL-URL:https://test.integrityli.org
X-WR-CALDESC:Events for Integrity Church
BEGIN:VTIMEZONE
TZID:America/New_York
BEGIN:DAYLIGHT
TZOFFSETFROM:-0500
TZOFFSETTO:-0400
TZNAME:EDT
DTSTART:20150308T070000
END:DAYLIGHT
BEGIN:STANDARD
TZOFFSETFROM:-0400
TZOFFSETTO:-0500
TZNAME:EST
DTSTART:20151101T060000
END:STANDARD
END:VTIMEZONE
BEGIN:VEVENT
DTSTART;TZID=America/New_York:20150402T190000
DTEND;TZID=America/New_York:20150402T203000
DTSTAMP:20260424T225810
CREATED:20150303T142120Z
LAST-MODIFIED:20150328T122054Z
UID:5585-1428001200-1428006600@test.integrityli.org
SUMMARY:Easter Choir Rehearsal
DESCRIPTION:Dress rehearsal with band
URL:https://test.integrityli.org/event/easter-choir-rehearsal-4/
LOCATION:Integrity Church\, 1 Old Dock Rd\, Yaphank\, 11980\, United States
ORGANIZER;CN="Pastor%20Tom":MAILTO:tom@integrityli.org
END:VEVENT
END:VCALENDAR