BEGIN:VCALENDAR
VERSION:2.0
PRODID:-//Integrity Church - ECPv5.3.2.1//NONSGML v1.0//EN
CALSCALE:GREGORIAN
METHOD:PUBLISH
X-WR-CALNAME:Integrity Church
X-ORIGINAL-URL:https://test.integrityli.org
X-WR-CALDESC:Events for Integrity Church
BEGIN:VTIMEZONE
TZID:America/New_York
BEGIN:DAYLIGHT
TZOFFSETFROM:-0500
TZOFFSETTO:-0400
TZNAME:EDT
DTSTART:20160313T070000
END:DAYLIGHT
BEGIN:STANDARD
TZOFFSETFROM:-0400
TZOFFSETTO:-0500
TZNAME:EST
DTSTART:20161106T060000
END:STANDARD
END:VTIMEZONE
BEGIN:VEVENT
DTSTART;TZID=America/New_York:20160302T190000
DTEND;TZID=America/New_York:20160302T203000
DTSTAMP:20260423T215352
CREATED:20160121T162849Z
LAST-MODIFIED:20160229T151307Z
UID:7678-1456945200-1456950600@test.integrityli.org
SUMMARY:Discipleship Class
DESCRIPTION:Get equipped to share the grace and truth of God and be a part of carrying out His command to make disciples of all nations! \nPastor Tony will be teaching on how to effectively disciple new believers and those desiring to grow deeper in their understanding of God and walk with Him. \nWhen: Wednesday evenings in March from 7:00pm – 8:30pm\nWhere: Integrity Church \nregister now
URL:https://test.integrityli.org/event/discipleship-class/
LOCATION:Integrity Church\, 1 Old Dock Rd\, Yaphank\, 11980\, United States
CATEGORIES:Mentoring
ATTACH;FMTTYPE=image/jpeg:https://test.integrityli.org/wp-content/uploads/discipleship_class_web.jpg
ORGANIZER;CN="Pastor%20Tony":MAILTO:tony@integrityli.org
END:VEVENT
END:VCALENDAR