BEGIN:VCALENDAR
VERSION:2.0
PRODID:-//Integrity Church - ECPv5.3.2.1//NONSGML v1.0//EN
CALSCALE:GREGORIAN
METHOD:PUBLISH
X-WR-CALNAME:Integrity Church
X-ORIGINAL-URL:https://test.integrityli.org
X-WR-CALDESC:Events for Integrity Church
BEGIN:VTIMEZONE
TZID:America/New_York
BEGIN:DAYLIGHT
TZOFFSETFROM:-0500
TZOFFSETTO:-0400
TZNAME:EDT
DTSTART:20160313T070000
END:DAYLIGHT
BEGIN:STANDARD
TZOFFSETFROM:-0400
TZOFFSETTO:-0500
TZNAME:EST
DTSTART:20161106T060000
END:STANDARD
END:VTIMEZONE
BEGIN:VEVENT
DTSTART;TZID=America/New_York:20160910T083000
DTEND;TZID=America/New_York:20160910T093000
DTSTAMP:20260423T162855
CREATED:20160802T165529Z
LAST-MODIFIED:20160802T170104Z
UID:8751-1473496200-1473499800@test.integrityli.org
SUMMARY:Corporate Prayer for Long Island Pastors
DESCRIPTION:Join us as we pray for the leadership of our churches here on Long Island. \nWHERE: Integrity Church\, 1 Old Dock Rd\, Yaphank\, NY 11980 \nWHEN: 8:30am – 9:30am \nContact us at prayer@integrityli.org for further information.
URL:https://test.integrityli.org/event/corporate-prayer-for-long-island-pastors/
LOCATION:Integrity Church\, 1 Old Dock Rd\, Yaphank\, 11980\, United States
CATEGORIES:Prayer
ATTACH;FMTTYPE=image/jpeg:https://test.integrityli.org/wp-content/uploads/Lift-Up-Our-Leaders.jpg
END:VEVENT
END:VCALENDAR