BEGIN:VCALENDAR
VERSION:2.0
PRODID:-//Integrity Church - ECPv5.3.2.1//NONSGML v1.0//EN
CALSCALE:GREGORIAN
METHOD:PUBLISH
X-WR-CALNAME:Integrity Church
X-ORIGINAL-URL:https://test.integrityli.org
X-WR-CALDESC:Events for Integrity Church
BEGIN:VTIMEZONE
TZID:America/New_York
BEGIN:DAYLIGHT
TZOFFSETFROM:-0500
TZOFFSETTO:-0400
TZNAME:EDT
DTSTART:20170312T070000
END:DAYLIGHT
BEGIN:STANDARD
TZOFFSETFROM:-0400
TZOFFSETTO:-0500
TZNAME:EST
DTSTART:20171105T060000
END:STANDARD
END:VTIMEZONE
BEGIN:VEVENT
DTSTART;TZID=America/New_York:20170402T133000
DTEND;TZID=America/New_York:20170402T153000
DTSTAMP:20260422T113758
CREATED:20170113T193522Z
LAST-MODIFIED:20170405T145349Z
UID:10165-1491139800-1491147000@test.integrityli.org
SUMMARY:Cohesion Group in Yaphank
DESCRIPTION:When: Sunday Afternoons\, 1:30pm-3:30pm \nWhere: Yaphank \nFacilitators: Pastor Vinny \nDetails: We would love to have you join us Sunday afternoons! \nContact: Pastor Vinny at cohesion@integrityli.org
URL:https://test.integrityli.org/event/cohesion-group-in-yaphank-2/
LOCATION:Integrity Church\, 1 Old Dock Rd\, Yaphank\, 11980\, United States
CATEGORIES:Cohesion,Spiritual Growth
ATTACH;FMTTYPE=image/png:https://test.integrityli.org/wp-content/uploads/cohesion_Logo_clr.png
END:VEVENT
END:VCALENDAR