BEGIN:VCALENDAR
VERSION:2.0
PRODID:-//Integrity Church - ECPv5.3.2.1//NONSGML v1.0//EN
CALSCALE:GREGORIAN
METHOD:PUBLISH
X-WR-CALNAME:Integrity Church
X-ORIGINAL-URL:https://test.integrityli.org
X-WR-CALDESC:Events for Integrity Church
BEGIN:VTIMEZONE
TZID:America/New_York
BEGIN:DAYLIGHT
TZOFFSETFROM:-0500
TZOFFSETTO:-0400
TZNAME:EDT
DTSTART:20170312T070000
END:DAYLIGHT
BEGIN:STANDARD
TZOFFSETFROM:-0400
TZOFFSETTO:-0500
TZNAME:EST
DTSTART:20171105T060000
END:STANDARD
END:VTIMEZONE
BEGIN:VEVENT
DTSTART;TZID=America/New_York:20170403T190000
DTEND;TZID=America/New_York:20170403T203000
DTSTAMP:20260422T113408
CREATED:20170331T144625Z
LAST-MODIFIED:20170331T152100Z
UID:10801-1491246000-1491251400@test.integrityli.org
SUMMARY:Cohesion Group in Selden
DESCRIPTION:When: Monday Evenings\, 7:00pm-8:30pm \nWhere: Selden \nFacilitators: Pastor Frank Summers \nDetails: We would love to have you join us Monday evenings!  \nContact: Pastor Frank at cohesion@integrityli.org
URL:https://test.integrityli.org/event/cohesion-group-in-selden/
LOCATION:Integrity Church\, 1 Old Dock Rd\, Yaphank\, 11980\, United States
CATEGORIES:Cohesion,Community
END:VEVENT
END:VCALENDAR