BEGIN:VCALENDAR
VERSION:2.0
PRODID:-//Integrity Church - ECPv5.3.2.1//NONSGML v1.0//EN
CALSCALE:GREGORIAN
METHOD:PUBLISH
X-WR-CALNAME:Integrity Church
X-ORIGINAL-URL:https://test.integrityli.org
X-WR-CALDESC:Events for Integrity Church
BEGIN:VTIMEZONE
TZID:America/New_York
BEGIN:DAYLIGHT
TZOFFSETFROM:-0500
TZOFFSETTO:-0400
TZNAME:EDT
DTSTART:20160313T070000
END:DAYLIGHT
BEGIN:STANDARD
TZOFFSETFROM:-0400
TZOFFSETTO:-0500
TZNAME:EST
DTSTART:20161106T060000
END:STANDARD
END:VTIMEZONE
BEGIN:VEVENT
DTSTART;TZID=America/New_York:20160117T000000
DTEND;TZID=America/New_York:20160117T000000
DTSTAMP:20260423T190411
CREATED:20150508T155015Z
LAST-MODIFIED:20151226T165749Z
UID:5953-1452988800-1452988800@test.integrityli.org
SUMMARY:Cohesion
DESCRIPTION:Our Cohesion Small Groups meet at our church and in our homes at various times throughout the week. Please contact us at cohesion@integrityli.org if you are interested in joining one of our groups!
URL:https://test.integrityli.org/event/cohesion-4/
LOCATION:Exact location TBD
ORGANIZER;CN="Paul%20Petroski":MAILTO:paul@integrityli.org
END:VEVENT
END:VCALENDAR