BEGIN:VCALENDAR
VERSION:2.0
PRODID:-//Integrity Church - ECPv5.3.2.1//NONSGML v1.0//EN
CALSCALE:GREGORIAN
METHOD:PUBLISH
X-WR-CALNAME:Integrity Church
X-ORIGINAL-URL:https://test.integrityli.org
X-WR-CALDESC:Events for Integrity Church
BEGIN:VTIMEZONE
TZID:America/New_York
BEGIN:DAYLIGHT
TZOFFSETFROM:-0500
TZOFFSETTO:-0400
TZNAME:EDT
DTSTART:20150308T070000
END:DAYLIGHT
BEGIN:STANDARD
TZOFFSETFROM:-0400
TZOFFSETTO:-0500
TZNAME:EST
DTSTART:20151101T060000
END:STANDARD
END:VTIMEZONE
BEGIN:VEVENT
DTSTART;VALUE=DATE:20150426
DTEND;VALUE=DATE:20150601
DTSTAMP:20260424T153817
CREATED:20150508T153633Z
LAST-MODIFIED:20150511T161158Z
UID:5942-1430006400-1433116799@test.integrityli.org
SUMMARY:Cohesion
DESCRIPTION:Our Cohesion Small Groups meet at our church and in our homes at various times throughout the week. Please contact us at cohesion@integrityli.org if you are interested in joining one of our groups!
URL:https://test.integrityli.org/event/cohesion-3/
LOCATION:Exact location TBD
ORGANIZER;CN="Pastor%20Tom":MAILTO:tom@integrityli.org
END:VEVENT
END:VCALENDAR