BEGIN:VCALENDAR
VERSION:2.0
PRODID:-//Integrity Church - ECPv5.3.2.1//NONSGML v1.0//EN
CALSCALE:GREGORIAN
METHOD:PUBLISH
X-WR-CALNAME:Integrity Church
X-ORIGINAL-URL:https://test.integrityli.org
X-WR-CALDESC:Events for Integrity Church
BEGIN:VTIMEZONE
TZID:America/New_York
BEGIN:DAYLIGHT
TZOFFSETFROM:-0500
TZOFFSETTO:-0400
TZNAME:EDT
DTSTART:20170312T070000
END:DAYLIGHT
BEGIN:STANDARD
TZOFFSETFROM:-0400
TZOFFSETTO:-0500
TZNAME:EST
DTSTART:20171105T060000
END:STANDARD
END:VTIMEZONE
BEGIN:VEVENT
DTSTART;TZID=America/New_York:20170617T090000
DTEND;TZID=America/New_York:20170617T140000
DTSTAMP:20260422T161106
CREATED:20170516T203337Z
LAST-MODIFIED:20170516T203423Z
UID:10977-1497690000-1497708000@test.integrityli.org
SUMMARY:Clean up at Atlantic Point
DESCRIPTION:We will be at Atlantic Point in Yaphank on Saturday\, June 17th from 9am – 2pm to help “beautify” our neighbor’s community through a general clean up of the grounds. \nWe will meet at the church at 9:00am and then carpool to Atlantic point as parking is limited. \n[button url=”https://integrityli.elexiochms.com/external/form/8af1bc96-be28-4475-a166-da24c2874779″ color=”default” size=”small”]Register Now[/button]
URL:https://test.integrityli.org/event/clean-up-at-atlantic-point/
LOCATION:Integrity Church\, 1 Old Dock Rd\, Yaphank\, 11980\, United States
CATEGORIES:Coming Soon,Community
END:VEVENT
END:VCALENDAR