BEGIN:VCALENDAR
VERSION:2.0
PRODID:-//Integrity Church - ECPv5.3.2.1//NONSGML v1.0//EN
CALSCALE:GREGORIAN
METHOD:PUBLISH
X-WR-CALNAME:Integrity Church
X-ORIGINAL-URL:https://test.integrityli.org
X-WR-CALDESC:Events for Integrity Church
BEGIN:VTIMEZONE
TZID:America/New_York
BEGIN:DAYLIGHT
TZOFFSETFROM:-0500
TZOFFSETTO:-0400
TZNAME:EDT
DTSTART:20150308T070000
END:DAYLIGHT
BEGIN:STANDARD
TZOFFSETFROM:-0400
TZOFFSETTO:-0500
TZNAME:EST
DTSTART:20151101T060000
END:STANDARD
END:VTIMEZONE
BEGIN:VEVENT
DTSTART;TZID=America/New_York:20151205T130000
DTEND;TZID=America/New_York:20151205T163000
DTSTAMP:20260423T231733
CREATED:20151112T232919Z
LAST-MODIFIED:20151112T232919Z
UID:7107-1449320400-1449333000@test.integrityli.org
SUMMARY:Christmas Baking Outreach
DESCRIPTION:Join us as we bake cookies and prepare cookie dough to put into the stockings and Christmas Baskets for our adopted families and our Food Pantry kids.\nWhen: Dec 5th from 1pm to 4:30pm. Come for an hour or for the whole time!\nWhere: 21 Haig Ave\, East Patchogue\, NY \nContact Barbara Drenzyk at 516-972-3263
URL:https://test.integrityli.org/event/christmas-baking-outreach/
ORGANIZER;CN="Barbara%20Drenzyk":MAILTO:knittogether@integrityli.org
END:VEVENT
END:VCALENDAR