BEGIN:VCALENDAR
VERSION:2.0
PRODID:-//Integrity Church - ECPv5.3.2.1//NONSGML v1.0//EN
CALSCALE:GREGORIAN
METHOD:PUBLISH
X-WR-CALNAME:Integrity Church
X-ORIGINAL-URL:https://test.integrityli.org
X-WR-CALDESC:Events for Integrity Church
BEGIN:VTIMEZONE
TZID:America/New_York
BEGIN:DAYLIGHT
TZOFFSETFROM:-0500
TZOFFSETTO:-0400
TZNAME:EDT
DTSTART:20170312T070000
END:DAYLIGHT
BEGIN:STANDARD
TZOFFSETFROM:-0400
TZOFFSETTO:-0500
TZNAME:EST
DTSTART:20171105T060000
END:STANDARD
END:VTIMEZONE
BEGIN:VEVENT
DTSTART;TZID=America/New_York:20170503T180000
DTEND;TZID=America/New_York:20170503T200000
DTSTAMP:20260422T172252
CREATED:20160703T151055Z
LAST-MODIFIED:20170425T180332Z
UID:9332-1493834400-1493841600@test.integrityli.org
SUMMARY:Pillars Men's Meeting
DESCRIPTION:Join the men starting at 6pm and prepare to be challenged and encouraged as we gather to sharpen one another through teaching\, worship and discussion. \nSign up today! ($15 covers the cost of dinner) \nSignup Online
URL:https://test.integrityli.org/event/calling-all-men-2-2017-05-03/
LOCATION:Integrity Church\, 1 Old Dock Rd\, Yaphank\, 11980\, United States
CATEGORIES:Coming Soon,Pillars Men's Ministry,Special Events,Spiritual Growth
ATTACH;FMTTYPE=image/png:https://test.integrityli.org/wp-content/uploads/logo_pillars_color.png
ORGANIZER;CN="Kimble%20Ware":MAILTO:pillars@integrityli.org
END:VEVENT
END:VCALENDAR