BEGIN:VCALENDAR
VERSION:2.0
PRODID:-//Integrity Church - ECPv5.3.2.1//NONSGML v1.0//EN
CALSCALE:GREGORIAN
METHOD:PUBLISH
X-WR-CALNAME:Integrity Church
X-ORIGINAL-URL:https://test.integrityli.org
X-WR-CALDESC:Events for Integrity Church
BEGIN:VTIMEZONE
TZID:America/New_York
BEGIN:DAYLIGHT
TZOFFSETFROM:-0500
TZOFFSETTO:-0400
TZNAME:EDT
DTSTART:20140309T070000
END:DAYLIGHT
BEGIN:STANDARD
TZOFFSETFROM:-0400
TZOFFSETTO:-0500
TZNAME:EST
DTSTART:20141102T060000
END:STANDARD
END:VTIMEZONE
BEGIN:VEVENT
DTSTART;TZID=America/New_York:20141031T190000
DTEND;TZID=America/New_York:20141031T203000
DTSTAMP:20260424T200041
CREATED:20141117T213445Z
LAST-MODIFIED:20141205T162656Z
UID:4900-1414782000-1414787400@test.integrityli.org
SUMMARY:Bible Study/Family Night
DESCRIPTION:
URL:https://test.integrityli.org/event/bible-studyfamily-night/
LOCATION:Integrity Church\, 1 Old Dock Rd\, Yaphank\, 11980\, United States
CATEGORIES:Bible Study,Kids
ATTACH;FMTTYPE=image/jpeg:https://test.integrityli.org/wp-content/uploads/BibleStudy-FamilyNights.jpg
ORGANIZER;CN="Pastor%20Tom":MAILTO:tom@integrityli.org
END:VEVENT
END:VCALENDAR