BEGIN:VCALENDAR
VERSION:2.0
PRODID:-//Integrity Church - ECPv5.3.2.1//NONSGML v1.0//EN
CALSCALE:GREGORIAN
METHOD:PUBLISH
X-WR-CALNAME:Integrity Church
X-ORIGINAL-URL:https://test.integrityli.org
X-WR-CALDESC:Events for Integrity Church
BEGIN:VTIMEZONE
TZID:America/New_York
BEGIN:DAYLIGHT
TZOFFSETFROM:-0500
TZOFFSETTO:-0400
TZNAME:EDT
DTSTART:20170312T070000
END:DAYLIGHT
BEGIN:STANDARD
TZOFFSETFROM:-0400
TZOFFSETTO:-0500
TZNAME:EST
DTSTART:20171105T060000
END:STANDARD
END:VTIMEZONE
BEGIN:VEVENT
DTSTART;TZID=America/New_York:20170512T190000
DTEND;TZID=America/New_York:20170512T203000
DTSTAMP:20260422T203801
CREATED:20170322T173158Z
LAST-MODIFIED:20170322T173158Z
UID:10674-1494615600-1494621000@test.integrityli.org
SUMMARY:Baptism Service
DESCRIPTION:Join us as we celebrate with those who are being baptized!
URL:https://test.integrityli.org/event/baptism-service/
LOCATION:Integrity Church\, 1 Old Dock Rd\, Yaphank\, 11980\, United States
CATEGORIES:Coming Soon,Special Events
ATTACH;FMTTYPE=image/jpeg:https://test.integrityli.org/wp-content/uploads/Baptism_Friday_web.jpg
ORGANIZER;CN="Pastor%20Tony":MAILTO:tony@integrityli.org
END:VEVENT
END:VCALENDAR