BEGIN:VCALENDAR
VERSION:2.0
PRODID:-//Integrity Church - ECPv5.3.2.1//NONSGML v1.0//EN
CALSCALE:GREGORIAN
METHOD:PUBLISH
X-WR-CALNAME:Integrity Church
X-ORIGINAL-URL:https://test.integrityli.org
X-WR-CALDESC:Events for Integrity Church
BEGIN:VTIMEZONE
TZID:America/New_York
BEGIN:DAYLIGHT
TZOFFSETFROM:-0500
TZOFFSETTO:-0400
TZNAME:EDT
DTSTART:20150308T070000
END:DAYLIGHT
BEGIN:STANDARD
TZOFFSETFROM:-0400
TZOFFSETTO:-0500
TZNAME:EST
DTSTART:20151101T060000
END:STANDARD
END:VTIMEZONE
BEGIN:VEVENT
DTSTART;TZID=America/New_York:20150705T111500
DTEND;TZID=America/New_York:20150705T123000
DTSTAMP:20260424T050452
CREATED:20150720T130227Z
LAST-MODIFIED:20150720T133950Z
UID:6421-1436094900-1436099400@test.integrityli.org
SUMMARY:11:15am Worship Service
DESCRIPTION:Worship Service with Kid’s Church and Nursery
URL:https://test.integrityli.org/event/1115am-worship-service/
LOCATION:Integrity Church\, 1 Old Dock Rd\, Yaphank\, 11980\, United States
CATEGORIES:Kids,Spiritual Growth,Worship Service
ORGANIZER;CN="Pastor%20Tom":MAILTO:tom@integrityli.org
END:VEVENT
END:VCALENDAR