BEGIN:VCALENDAR
VERSION:2.0
PRODID:-//Integrity Church - ECPv5.3.2.1//NONSGML v1.0//EN
CALSCALE:GREGORIAN
METHOD:PUBLISH
X-WR-CALNAME:Integrity Church
X-ORIGINAL-URL:https://test.integrityli.org
X-WR-CALDESC:Events for Integrity Church
BEGIN:VTIMEZONE
TZID:America/New_York
BEGIN:DAYLIGHT
TZOFFSETFROM:-0500
TZOFFSETTO:-0400
TZNAME:EDT
DTSTART:20150308T070000
END:DAYLIGHT
BEGIN:STANDARD
TZOFFSETFROM:-0400
TZOFFSETTO:-0500
TZNAME:EST
DTSTART:20151101T060000
END:STANDARD
END:VTIMEZONE
BEGIN:VEVENT
DTSTART;TZID=America/New_York:20151129T103000
DTEND;TZID=America/New_York:20151129T114500
DTSTAMP:20260423T203450
CREATED:20150720T134104Z
LAST-MODIFIED:20151107T180917Z
UID:6996-1448793000-1448797500@test.integrityli.org
SUMMARY:10:30am Baptism / Worship Service
DESCRIPTION:Join us for a special Baptism/Worship Service!
URL:https://test.integrityli.org/event/1115am-worship-service-2-2015-11-01-2015-11-29/
LOCATION:Integrity Church\, 1 Old Dock Rd\, Yaphank\, 11980\, United States
CATEGORIES:Kids,Spiritual Growth,Worship Service
ORGANIZER;CN="Pastor%20Tom":MAILTO:tom@integrityli.org
END:VEVENT
END:VCALENDAR