BEGIN:VCALENDAR
VERSION:2.0
PRODID:-//Integrity Church - ECPv5.3.2.1//NONSGML v1.0//EN
CALSCALE:GREGORIAN
METHOD:PUBLISH
X-WR-CALNAME:Integrity Church
X-ORIGINAL-URL:http://test.integrityli.org
X-WR-CALDESC:Events for Integrity Church
BEGIN:VTIMEZONE
TZID:America/New_York
BEGIN:DAYLIGHT
TZOFFSETFROM:-0500
TZOFFSETTO:-0400
TZNAME:EDT
DTSTART:20180311T070000
END:DAYLIGHT
BEGIN:STANDARD
TZOFFSETFROM:-0400
TZOFFSETTO:-0500
TZNAME:EST
DTSTART:20181104T060000
END:STANDARD
END:VTIMEZONE
BEGIN:VEVENT
DTSTART;VALUE=DATE:20180406
DTEND;VALUE=DATE:20180409
DTSTAMP:20260423T123044
CREATED:20180308T220456Z
LAST-MODIFIED:20180308T220456Z
UID:12690-1522972800-1523231999@test.integrityli.org
SUMMARY:ONE79 Youth Retreat
DESCRIPTION:
URL:http://test.integrityli.org/event/one79-youth-retreat/
LOCATION:Integrity Church\, 1 Old Dock Rd\, Yaphank\, 11980\, United States
CATEGORIES:ONE79 Youth Group
END:VEVENT
BEGIN:VEVENT
DTSTART;TZID=America/New_York:20180406T190000
DTEND;TZID=America/New_York:20180406T203000
DTSTAMP:20260423T123044
CREATED:20170331T153007Z
LAST-MODIFIED:20180416T195410Z
UID:10842-1523041200-1523046600@test.integrityli.org
SUMMARY:Cohesion Group in East Patchogue
DESCRIPTION:When: Thursday Evenings\, 7:00pm-8:30pm \nWhere: 21 Haig Ave\, East Patchogue \nFacilitators: Mark & Barbara Drenzyk \nDetails: We would love to have you join us Thursday evenings as we come together to strengthen our Marriages. \nContact: Mark Drenzyk\, MBDN3@optonline.net\, 631-398-8416
URL:http://test.integrityli.org/event/cohesion-group-in-east-patchogue/
LOCATION:Integrity Church\, 1 Old Dock Rd\, Yaphank\, 11980\, United States
CATEGORIES:Cohesion,Community,Marriage
END:VEVENT
BEGIN:VEVENT
DTSTART;TZID=America/New_York:20180406T191500
DTEND;TZID=America/New_York:20180406T204500
DTSTAMP:20260423T123044
CREATED:20161229T200027Z
LAST-MODIFIED:20180416T195217Z
UID:10027-1523042100-1523047500@test.integrityli.org
SUMMARY:Cohesion Group in Manorville
DESCRIPTION:When: Friday Evenings\, 7:15pm-8:45pm \nWhere: Manorville \nFacilitators: Andrew Bontempo\, Dominick Frisella \nDetails: All ages welcome (kid friendly). We would be so pleased to have you join our group! \nContact: Michelle & Andrew at cohesion@integrityli.org
URL:http://test.integrityli.org/event/cohesion-group-in-manorville-2/
LOCATION:Unnamed Venue\, NY
CATEGORIES:Cohesion,Community,Spiritual Growth
ATTACH;FMTTYPE=image/png:http://test.integrityli.org/wp-content/uploads/cohesion_Logo_clr.png
END:VEVENT
BEGIN:VEVENT
DTSTART;TZID=America/New_York:20180406T193000
DTEND;TZID=America/New_York:20180406T210000
DTSTAMP:20260423T123044
CREATED:20161229T200240Z
LAST-MODIFIED:20180416T194650Z
UID:10034-1523043000-1523048400@test.integrityli.org
SUMMARY:Cohesion Group in Yaphank
DESCRIPTION:When: Friday Evenings\, 7:30pm-9:00pm \nWhere: Integrity Church\, 1 Old Dock Rd\, Yaphank \nFacilitators: Ken Riker\, Bob McKay \nDetails: We can not begin to tell you how excited we are to have you join us Friday evenings! \nContact: Ken or Bob at cohesion@integrityli.org
URL:http://test.integrityli.org/event/cohesion-group-in-yaphank/
LOCATION:Unnamed Venue\, NY
CATEGORIES:Cohesion,Community,Spiritual Growth
ATTACH;FMTTYPE=image/png:http://test.integrityli.org/wp-content/uploads/cohesion_Logo_clr.png
END:VEVENT
END:VCALENDAR